BEGIN:VCALENDAR
VERSION:2.0
PRODID:-//Town of Brookfield - ECPv6.15.20//NONSGML v1.0//EN
CALSCALE:GREGORIAN
METHOD:PUBLISH
X-WR-CALNAME:Town of Brookfield
X-ORIGINAL-URL:https://www.brookfieldma.us
X-WR-CALDESC:Events for Town of Brookfield
REFRESH-INTERVAL;VALUE=DURATION:PT1H
X-Robots-Tag:noindex
X-PUBLISHED-TTL:PT1H
BEGIN:VTIMEZONE
TZID:America/New_York
BEGIN:DAYLIGHT
TZOFFSETFROM:-0500
TZOFFSETTO:-0400
TZNAME:EDT
DTSTART:20250309T070000
END:DAYLIGHT
BEGIN:STANDARD
TZOFFSETFROM:-0400
TZOFFSETTO:-0500
TZNAME:EST
DTSTART:20251102T060000
END:STANDARD
BEGIN:DAYLIGHT
TZOFFSETFROM:-0500
TZOFFSETTO:-0400
TZNAME:EDT
DTSTART:20260308T070000
END:DAYLIGHT
BEGIN:STANDARD
TZOFFSETFROM:-0400
TZOFFSETTO:-0500
TZNAME:EST
DTSTART:20261101T060000
END:STANDARD
BEGIN:DAYLIGHT
TZOFFSETFROM:-0500
TZOFFSETTO:-0400
TZNAME:EDT
DTSTART:20270314T070000
END:DAYLIGHT
BEGIN:STANDARD
TZOFFSETFROM:-0400
TZOFFSETTO:-0500
TZNAME:EST
DTSTART:20271107T060000
END:STANDARD
END:VTIMEZONE
BEGIN:VEVENT
DTSTART;TZID=America/New_York:20260429T173000
DTEND;TZID=America/New_York:20260429T173000
DTSTAMP:20260425T110502
CREATED:20260425T025330Z
LAST-MODIFIED:20260425T143545Z
UID:10000012-1777483800-1777483800@www.brookfieldma.us
SUMMARY:Tantasqua Regional School District Budget Subcommittee
DESCRIPTION:Brookfield\, MA Tantasqua Regional School District Budget Subcommittee\nhttp://www.mytowngovernment.org/meeting/5082083068739584
URL:https://www.brookfieldma.us/event/tantasqua-regional-school-district-budget-subcommittee/
LOCATION:Tantasqua Regional Junior High School\, 320A Brookfield Road\, Fiskdale MA 01518 Superintendent’s Conference Room
CATEGORIES:Town Meeting
END:VEVENT
END:VCALENDAR