BEGIN:VCALENDAR
VERSION:2.0
PRODID:-//Town of Brookfield - ECPv6.15.20//NONSGML v1.0//EN
CALSCALE:GREGORIAN
METHOD:PUBLISH
X-WR-CALNAME:Town of Brookfield
X-ORIGINAL-URL:https://www.brookfieldma.us
X-WR-CALDESC:Events for Town of Brookfield
REFRESH-INTERVAL;VALUE=DURATION:PT1H
X-Robots-Tag:noindex
X-PUBLISHED-TTL:PT1H
BEGIN:VTIMEZONE
TZID:America/New_York
BEGIN:DAYLIGHT
TZOFFSETFROM:-0500
TZOFFSETTO:-0400
TZNAME:EDT
DTSTART:20250309T070000
END:DAYLIGHT
BEGIN:STANDARD
TZOFFSETFROM:-0400
TZOFFSETTO:-0500
TZNAME:EST
DTSTART:20251102T060000
END:STANDARD
BEGIN:DAYLIGHT
TZOFFSETFROM:-0500
TZOFFSETTO:-0400
TZNAME:EDT
DTSTART:20260308T070000
END:DAYLIGHT
BEGIN:STANDARD
TZOFFSETFROM:-0400
TZOFFSETTO:-0500
TZNAME:EST
DTSTART:20261101T060000
END:STANDARD
BEGIN:DAYLIGHT
TZOFFSETFROM:-0500
TZOFFSETTO:-0400
TZNAME:EDT
DTSTART:20270314T070000
END:DAYLIGHT
BEGIN:STANDARD
TZOFFSETFROM:-0400
TZOFFSETTO:-0500
TZNAME:EST
DTSTART:20271107T060000
END:STANDARD
END:VTIMEZONE
BEGIN:VEVENT
DTSTART;TZID=America/New_York:20260429T190000
DTEND;TZID=America/New_York:20260429T190000
DTSTAMP:20260425T092311
CREATED:20260425T025331Z
LAST-MODIFIED:20260425T121924Z
UID:10000015-1777489200-1777489200@www.brookfieldma.us
SUMMARY:Select Board
DESCRIPTION:Brookfield\, MA Select Board\nhttp://www.mytowngovernment.org/meeting/5083042289287168\nBrookfield Select Board\nWednesday\, April 29\, 2026; 7 p.m.\nBrookfield Police Dept Meeting Room\nANNOUNCEMENTS:\nAGENDA\n1.	Executive Session\n#1:  To discuss the reputation\, character\, physical condition or mental health\, rather than professional competence\, of an individual\, or to discuss the discipline or dismissal of\, or complaints or charges brought against\, a public officer\, employee\, staff member or individual.\n2.	Executive Session\n#3: To discuss strategy with respect to collective bargaining or litigation if an open meeting\nmay have a detrimental effect on the bargaining or litigating position of the public body and the chair so declares.\n3.	Executive Session\n#2: To conduct strategy sessions in preparation for negotiations with nonunion personnel or to conduct collective bargaining sessions or contract negotiations with nonunion personnel. New England Police Benevolent Association\, Inc.(NEPBA)\n4.	Annual Town Meeting Warrant – Discussion/Recommendations\, etc.\n5.	Interim Town Administrator – discussion/vote\, etc.\n6.	Items not reasonably anticipated by the chair 48 hours in advance\nMeeting Accommodations: Reasonable accommodations for people with disabilities are available upon request. When making such a request\, please include a description of the accommodation that you will need\, including as much detail as possible\, along with your contact information. Email requests to:selectmen@brookfieldma.us\, or call 508-867-2930 x 10. Or fill out an ADA Accommodation Request online at https://forms.anevry.com/view.php?id=19488\nIn order to meet your request\, please provide at least 48 hours notice prior to the date that the accommodation is needed. Although every attempt will be made to provide the accommodation\, with less than 48 hours notice it may not be possible.
URL:https://www.brookfieldma.us/event/select-board/
LOCATION:Brookfield Police Station Meeting Room\, 7 Prouty Street
CATEGORIES:Town Meeting
END:VEVENT
BEGIN:VEVENT
DTSTART;TZID=America/New_York:20260506T190000
DTEND;TZID=America/New_York:20260506T190000
DTSTAMP:20260425T092311
CREATED:20260425T025345Z
LAST-MODIFIED:20260425T121936Z
UID:10000022-1778094000-1778094000@www.brookfieldma.us
SUMMARY:Select Board
DESCRIPTION:Brookfield\, MA Select Board\nhttp://www.mytowngovernment.org/meeting/5102933893447680\nBrookfield Select Board\nWednesday\, May 6\, 2026; 7 p.m.\nBrookfield Police Station Meeting Room\nANNOUNCEMENTS:\nSIGNED WARRANTS\nAGENDA\n1.	7:05 Pole Hearing – Quaboag St.\n2.	7:15: Pole Hearing – Quaboag St.\n3.	Items not reasonably anticipated by the chair 48 hours in advance\nMeeting Accommodations: Reasonable accommodations for people with disabilities are available upon request. When making such a request\, please include a description of the accommodation that you will need\, including as much detail as possible\, along with your contact information. Email requests to:selectmen@brookfieldma.us\, or call 508-867-2930 x 10. Or fill out an ADA Accommodation Request online at https://forms.anevry.com/view.php?id=19488\nIn order to meet your request\, please provide at least 48 hours notice prior to the date that the accommodation is needed. Although every attempt will be made to provide the accommodation\, with less than 48 hours notice it may not be possible.
URL:https://www.brookfieldma.us/event/select-board-2/
LOCATION:Brookfield Police Station Meeting Room\, 7 Prouty Street
CATEGORIES:Town Meeting
END:VEVENT
BEGIN:VEVENT
DTSTART;TZID=America/New_York:20260511T191500
DTEND;TZID=America/New_York:20260511T191500
DTSTAMP:20260425T092311
CREATED:20260425T025345Z
LAST-MODIFIED:20260425T121936Z
UID:10000023-1778526900-1778526900@www.brookfieldma.us
SUMMARY:Communications Committee
DESCRIPTION:Brookfield\, MA Communications Committee\nhttp://www.mytowngovernment.org/meeting/5118172269641728\n1.) Community Resource Content for Town Website\n2.) Review Meeting Minutes from 04/14/2026\n3.) Schedule Next Meeting
URL:https://www.brookfieldma.us/event/communications-committee/
LOCATION:Brookfield Police Station Meeting Room\, 7 Prouty Street
CATEGORIES:Town Meeting
END:VEVENT
BEGIN:VEVENT
DTSTART;TZID=America/New_York:20260512T183000
DTEND;TZID=America/New_York:20260512T183000
DTSTAMP:20260425T092311
CREATED:20260425T025345Z
LAST-MODIFIED:20260425T121936Z
UID:10000025-1778610600-1778610600@www.brookfieldma.us
SUMMARY:Agricultural Commission
DESCRIPTION:Brookfield\, MA Agricultural Commission\nhttp://www.mytowngovernment.org/meeting/5191242716020736\nat April 14 meeting
URL:https://www.brookfieldma.us/event/agricultural-commission/
LOCATION:Brookfield Police Station Meeting Room\, 7 Prouty Street
CATEGORIES:Town Meeting
END:VEVENT
END:VCALENDAR