BEGIN:VCALENDAR
VERSION:2.0
PRODID:-//Town of Brookfield - ECPv6.15.20//NONSGML v1.0//EN
CALSCALE:GREGORIAN
METHOD:PUBLISH
X-ORIGINAL-URL:https://www.brookfieldma.us
X-WR-CALDESC:Events for Town of Brookfield
REFRESH-INTERVAL;VALUE=DURATION:PT1H
X-Robots-Tag:noindex
X-PUBLISHED-TTL:PT1H
BEGIN:VTIMEZONE
TZID:America/New_York
BEGIN:DAYLIGHT
TZOFFSETFROM:-0500
TZOFFSETTO:-0400
TZNAME:EDT
DTSTART:20250309T070000
END:DAYLIGHT
BEGIN:STANDARD
TZOFFSETFROM:-0400
TZOFFSETTO:-0500
TZNAME:EST
DTSTART:20251102T060000
END:STANDARD
BEGIN:DAYLIGHT
TZOFFSETFROM:-0500
TZOFFSETTO:-0400
TZNAME:EDT
DTSTART:20260308T070000
END:DAYLIGHT
BEGIN:STANDARD
TZOFFSETFROM:-0400
TZOFFSETTO:-0500
TZNAME:EST
DTSTART:20261101T060000
END:STANDARD
BEGIN:DAYLIGHT
TZOFFSETFROM:-0500
TZOFFSETTO:-0400
TZNAME:EDT
DTSTART:20270314T070000
END:DAYLIGHT
BEGIN:STANDARD
TZOFFSETFROM:-0400
TZOFFSETTO:-0500
TZNAME:EST
DTSTART:20271107T060000
END:STANDARD
END:VTIMEZONE
BEGIN:VEVENT
DTSTART;TZID=America/New_York:20260519T100000
DTEND;TZID=America/New_York:20260519T100000
DTSTAMP:20260425T092141
CREATED:20260425T025345Z
LAST-MODIFIED:20260425T121936Z
UID:10000027-1779184800-1779184800@www.brookfieldma.us
SUMMARY:Foot Clinic
DESCRIPTION:Brookfield\, MA Foot Clinic\nhttp://www.mytowngovernment.org/meeting/5134931768901632\nFoot Clinic\n(By Appointment Only)\nFor information or to make an appointment Patty King at (508) 867-2930 ext. 23 or Candyce Weagle at brookfieldseniordirector@outlook.com
URL:https://www.brookfieldma.us/event/foot-clinic/
LOCATION:Brookfield Congregational Church 8 Common Street\, Brookfield\, MA\, United States
CATEGORIES:Town Meeting
GEO:42.19169;-72.105011
END:VEVENT
BEGIN:VEVENT
DTSTART;TZID=America/New_York:20260616T100000
DTEND;TZID=America/New_York:20260616T100000
DTSTAMP:20260425T092141
CREATED:20260425T025357Z
LAST-MODIFIED:20260425T131039Z
UID:10000034-1781604000-1781604000@www.brookfieldma.us
SUMMARY:Foot Clinic
DESCRIPTION:Brookfield\, MA Foot Clinic\n(regular meeting\, not yet scheduled)
URL:https://www.brookfieldma.us/event/foot-clinic-2/
LOCATION:Brookfield Congregational Church 8 Common Street\, Brookfield\, MA\, United States
CATEGORIES:Town Meeting
GEO:42.19169;-72.105011
END:VEVENT
END:VCALENDAR