BEGIN:VCALENDAR
VERSION:2.0
PRODID:-//Town of Brookfield - ECPv6.15.20//NONSGML v1.0//EN
CALSCALE:GREGORIAN
METHOD:PUBLISH
X-ORIGINAL-URL:https://www.brookfieldma.us
X-WR-CALDESC:Events for Town of Brookfield
REFRESH-INTERVAL;VALUE=DURATION:PT1H
X-Robots-Tag:noindex
X-PUBLISHED-TTL:PT1H
BEGIN:VTIMEZONE
TZID:America/New_York
BEGIN:DAYLIGHT
TZOFFSETFROM:-0500
TZOFFSETTO:-0400
TZNAME:EDT
DTSTART:20250309T070000
END:DAYLIGHT
BEGIN:STANDARD
TZOFFSETFROM:-0400
TZOFFSETTO:-0500
TZNAME:EST
DTSTART:20251102T060000
END:STANDARD
BEGIN:DAYLIGHT
TZOFFSETFROM:-0500
TZOFFSETTO:-0400
TZNAME:EDT
DTSTART:20260308T070000
END:DAYLIGHT
BEGIN:STANDARD
TZOFFSETFROM:-0400
TZOFFSETTO:-0500
TZNAME:EST
DTSTART:20261101T060000
END:STANDARD
BEGIN:DAYLIGHT
TZOFFSETFROM:-0500
TZOFFSETTO:-0400
TZNAME:EDT
DTSTART:20270314T070000
END:DAYLIGHT
BEGIN:STANDARD
TZOFFSETFROM:-0400
TZOFFSETTO:-0500
TZNAME:EST
DTSTART:20271107T060000
END:STANDARD
END:VTIMEZONE
BEGIN:VEVENT
DTSTART;TZID=America/New_York:20260609T180000
DTEND;TZID=America/New_York:20260609T180000
DTSTAMP:20260425T163036
CREATED:20260425T025357Z
LAST-MODIFIED:20260425T193436Z
UID:10000032-1781028000-1781028000@www.brookfieldma.us
SUMMARY:Brookfield Elementary School Committee
DESCRIPTION:Brookfield\, MA Brookfield Elementary School Committee\n(regular meeting\, not yet scheduled)
URL:https://www.brookfieldma.us/event/brookfield-elementary-school-committee-2/
LOCATION:Brookfield Elementary School\, 37 Central Street Brookfield MA 01506 School Library
CATEGORIES:Town Meeting
END:VEVENT
BEGIN:VEVENT
DTSTART;TZID=America/New_York:20260610T110000
DTEND;TZID=America/New_York:20260610T110000
DTSTAMP:20260425T163036
CREATED:20260425T025357Z
LAST-MODIFIED:20260425T193436Z
UID:10000033-1781089200-1781089200@www.brookfieldma.us
SUMMARY:Water Commissioners
DESCRIPTION:Brookfield\, MA Water Commissioners\n(regular meeting\, not yet scheduled)
URL:https://www.brookfieldma.us/event/water-commissioners-2/
LOCATION:Brookfield Town Hall\, 6 Central Street\, Brookfield MA 01506 6 Central Street\, Banquet Hall
CATEGORIES:Town Meeting
END:VEVENT
BEGIN:VEVENT
DTSTART;TZID=America/New_York:20260616T100000
DTEND;TZID=America/New_York:20260616T100000
DTSTAMP:20260425T163036
CREATED:20260425T025357Z
LAST-MODIFIED:20260425T193436Z
UID:10000034-1781604000-1781604000@www.brookfieldma.us
SUMMARY:Foot Clinic
DESCRIPTION:Brookfield\, MA Foot Clinic\n(regular meeting\, not yet scheduled)
URL:https://www.brookfieldma.us/event/foot-clinic-2/
LOCATION:Brookfield Congregational Church 8 Common Street\, Brookfield\, MA\, United States
CATEGORIES:Town Meeting
GEO:42.19169;-72.105011
END:VEVENT
BEGIN:VEVENT
DTSTART;TZID=America/New_York:20260616T180000
DTEND;TZID=America/New_York:20260616T180000
DTSTAMP:20260425T163036
CREATED:20260425T025357Z
LAST-MODIFIED:20260425T193436Z
UID:10000035-1781632800-1781632800@www.brookfieldma.us
SUMMARY:Tantasqua School Committee
DESCRIPTION:Brookfield\, MA Tantasqua School Committee\n(regular meeting\, not yet scheduled)
URL:https://www.brookfieldma.us/event/tantasqua-school-committee-3/
LOCATION:Tantasqua Regional Junior High School\, 320A Brookfield Road\, Fiskdale MA 01518 School Library
CATEGORIES:Town Meeting
END:VEVENT
END:VCALENDAR