BEGIN:VCALENDAR
VERSION:2.0
PRODID:-//Town of Brookfield - ECPv6.15.20//NONSGML v1.0//EN
CALSCALE:GREGORIAN
METHOD:PUBLISH
X-WR-CALNAME:Town of Brookfield
X-ORIGINAL-URL:https://www.brookfieldma.us
X-WR-CALDESC:Events for Town of Brookfield
REFRESH-INTERVAL;VALUE=DURATION:PT1H
X-Robots-Tag:noindex
X-PUBLISHED-TTL:PT1H
BEGIN:VTIMEZONE
TZID:America/New_York
BEGIN:DAYLIGHT
TZOFFSETFROM:-0500
TZOFFSETTO:-0400
TZNAME:EDT
DTSTART:20250309T070000
END:DAYLIGHT
BEGIN:STANDARD
TZOFFSETFROM:-0400
TZOFFSETTO:-0500
TZNAME:EST
DTSTART:20251102T060000
END:STANDARD
BEGIN:DAYLIGHT
TZOFFSETFROM:-0500
TZOFFSETTO:-0400
TZNAME:EDT
DTSTART:20260308T070000
END:DAYLIGHT
BEGIN:STANDARD
TZOFFSETFROM:-0400
TZOFFSETTO:-0500
TZNAME:EST
DTSTART:20261101T060000
END:STANDARD
BEGIN:DAYLIGHT
TZOFFSETFROM:-0500
TZOFFSETTO:-0400
TZNAME:EDT
DTSTART:20270314T070000
END:DAYLIGHT
BEGIN:STANDARD
TZOFFSETFROM:-0400
TZOFFSETTO:-0500
TZNAME:EST
DTSTART:20271107T060000
END:STANDARD
END:VTIMEZONE
BEGIN:VEVENT
DTSTART;TZID=America/New_York:20260506T184500
DTEND;TZID=America/New_York:20260506T184500
DTSTAMP:20260425T074643
CREATED:20260419T021845Z
LAST-MODIFIED:20260425T010533Z
UID:10000008-1778093100-1778093100@www.brookfieldma.us
SUMMARY:Notice of Public Hearing: Proposed Amendments to Accessory Dwelling Units Bylaw
DESCRIPTION:Brookfield Planning Board \nNotice of Public Hearing \n  \nIn accordance with M. G. L.\, Chapter 40A\, Section 5 and the provisions of the Brookfield Zoning Bylaws Section 13.D\, the Brookfield Planning Board will hold a Public Hearing on proposed amendments to the Town of Brookfield Zoning Bylaw concerning Accessory Dwelling Units. \nThe hearing will take place on Wednesday\, May 6\, 2026\, in the Banquet Hall of Brookfield Town Hall\, 6 Central St.\, Brookfield\, MA\, starting at 6:45 pm or as soon thereafter as can be heard. Meeting details and agenda will be posted at www.mytowngovernment.org/01506. A copy of the proposed amendments may be inspected at the office of the Town Clerk at Brookfield Town Hall during normal business hours. \n  \nKevin Erkkila\, Chair \nBrookfield Planning Board
URL:https://www.brookfieldma.us/event/notice-of-public-hearing-proposed-amendments-to-accessory-dwelling-units-bylaw/
LOCATION:Brookfield Town Hall\, 6 Central Street\, Brookfield\, MA\, 01506\, United States
CATEGORIES:Public Hearing
ATTACH;FMTTYPE=image/png:https://www.brookfieldma.us/wp-content/uploads/2026/04/Document.png
ORGANIZER;CN="Planning Board":MAILTO:abclerk@brookfieldma.us
END:VEVENT
BEGIN:VEVENT
DTSTART;TZID=America/New_York:20260506T183000
DTEND;TZID=America/New_York:20260506T183000
DTSTAMP:20260425T074643
CREATED:20260425T025345Z
LAST-MODIFIED:20260425T111917Z
UID:10000021-1778092200-1778092200@www.brookfieldma.us
SUMMARY:Planning Board
DESCRIPTION:Brookfield\, MA Planning Board\nhttp://www.mytowngovernment.org/meeting/5158010104578048\nCall to Order\nMinutes: 3/11/2026\, 4/8/2026\n6:45pm Public Hearing for amendment to the Town Zoning Bylaw re: Accessory Dwelling Units (ADUs)\nOld Business\nNew Business\nFinancials\n – Stonebridge Press: payment for publication of notices of April 8\, 2026 public hearing\nCorrespondence\n – Sturbridge Planning Board: Public Hearing for ADA improvements to Hyde Library\, 5/11/2026\n – Warren Planning Board: Public Hearing for Zoning Bylaw amendment (Flood Plain District)\, 4/27/2026\n – Warren Planning Board: Public Hearing  for site plan approval of six-duplex development with common driveway on Cemetery Rd.\, 5/11/2026\nAnnouncements\nAdjournment
URL:https://www.brookfieldma.us/event/planning-board/
LOCATION:Brookfield Town Hall\, 6 Central Street\, Brookfield MA 01506 Banquet Hall
CATEGORIES:Town Meeting
END:VEVENT
BEGIN:VEVENT
DTSTART;TZID=America/New_York:20260506T180000
DTEND;TZID=America/New_York:20260506T180000
DTSTAMP:20260425T074643
CREATED:20260425T025344Z
LAST-MODIFIED:20260425T111917Z
UID:10000020-1778090400-1778090400@www.brookfieldma.us
SUMMARY:Memorial Day Committee
DESCRIPTION:Brookfield\, MA Memorial Day Committee\nhttp://www.mytowngovernment.org/meeting/5178103639310336
URL:https://www.brookfieldma.us/event/memorial-day-committee/
LOCATION:Brookfield Town Hall\, 6 Central Street\, Brookfield MA 01506 Town Clerk’s Office
CATEGORIES:Town Meeting
END:VEVENT
BEGIN:VEVENT
DTSTART;TZID=America/New_York:20260506T180000
DTEND;TZID=America/New_York:20260506T180000
DTSTAMP:20260425T074643
CREATED:20260425T025331Z
LAST-MODIFIED:20260425T111905Z
UID:10000019-1778090400-1778090400@www.brookfieldma.us
SUMMARY:Library Trustees
DESCRIPTION:Brookfield\, MA Library Trustees\nhttp://www.mytowngovernment.org/meeting/5127348400160768\nBOARD OF TRUSTEES MEETING\nAGENDA\, Wednesday\, May 6\,  2026 (FY26)\nMerrick Public Library\n2 Lincoln Street\, Brookfield\, MA 01506\nMeeting called to order for Wednesday\, 02/04/2026 @  pm.\nAttendance: Chair: Rebecca Morin (RM) (‘27) ()\,  Secretary: Rebecca Beck (RB) (‘26) ()\,Shelby Hill (SH) (‘26) ()\, Sally Brown (SB) (‘27) ()\, Carol Plumb (CP) (‘28) ()\, Mary Lou Knight (MK) (‘28) ()\, Julia Taylor (JT) ()\, Brenda Metterville (BM) ()\nOPEN MEETING: Call meeting to order at 6:00 p.m.\nReview\, edit\, approve minutes from Wednesday\, March 4\, 2026.\nMotion to approve the minutes made by\, 2nd by\, all voted in favor.\nMotion to ratify vouchers submitted for payment by \, 2nd by voted in favor:\nLibrary Payroll vouchers for FY26\, WK 21 and WK 22 4/26/2026.\nBook vouchers for FY26\, WK WK 21 and WK 22 4/26/2026\nExpense vouchers for  FY26\, WK WK 21 and WK 22 4/26/2026\nUtilities and expense vouchers for 18 Common Street for FY26\, WK 21 and WK 22 4/26/2026\nBudget FY 27 will be presented with comments from the Board of Selectmen and Advisory Board meeting held on Wed. April 22\, 2026.\nBrenda will report progress on 18 Common Street.\n Parking area discussion with Kyle.\nWork progress is focused on flooring in the barn.\nInterviews will take place on Wednesday\, May 13 at 5:30 and Thursday\,  May 14 at 5:30 pm.\nContract signing.\nThe next meeting is scheduled for Wednesday\, June 3\, 2026 at 6:00 pm.\nMotion made to adjourn the meeting by\, 2nd by\, all voted in favor.\nReasonable accommodations for people with disabilities are available upon request. When making such a request\, please include a description of the accommodation that you will need\, including as much detail as possible\, along with your contact information. Email requests to: brookfieldlibrary@gmail.com or call 508-867-6339. In order to meet your request\, please provide 48 hour notice prior to the date that the accommodation is needed. Although every attempt will be made to provide the accommodation with less than 48 hours’ notice\, it may not be possible.
URL:https://www.brookfieldma.us/event/library-trustees/
LOCATION:Merrick Public Library\, 2 Lincoln St\, Brookfield\, MA\, United States
CATEGORIES:Town Meeting
GEO:42.21359;-72.102749
X-APPLE-STRUCTURED-LOCATION;VALUE=URI;X-ADDRESS=Merrick Public Library 2 Lincoln St Brookfield MA United States;X-APPLE-RADIUS=500;X-TITLE=2 Lincoln St:geo:-72.102749,42.21359
END:VEVENT
BEGIN:VEVENT
DTSTART;TZID=America/New_York:20260505T120000
DTEND;TZID=America/New_York:20260505T120000
DTSTAMP:20260425T074643
CREATED:20260425T025331Z
LAST-MODIFIED:20260425T111905Z
UID:10000018-1777982400-1777982400@www.brookfieldma.us
SUMMARY:Council on Aging
DESCRIPTION:Brookfield\, MA Council on Aging\nhttp://www.mytowngovernment.org/meeting/6274963527434240
URL:https://www.brookfieldma.us/event/council-on-aging/
LOCATION:Brookfield Town Hall\, 6 Central Street\, Brookfield MA 01506 Banquet Hall
CATEGORIES:Town Meeting
END:VEVENT
BEGIN:VEVENT
DTSTART;TZID=America/New_York:20260504T161500
DTEND;TZID=America/New_York:20260504T161500
DTSTAMP:20260425T074643
CREATED:20260425T025331Z
LAST-MODIFIED:20260425T111905Z
UID:10000017-1777911300-1777911300@www.brookfieldma.us
SUMMARY:Brookfield Elementary School Committee Negotiations Subcommittee CANCELLED
DESCRIPTION:Brookfield\, MA Brookfield Elementary School Committee Negotiations Subcommittee CANCELLED
URL:https://www.brookfieldma.us/event/brookfield-elementary-school-committee-negotiations-subcommittee-cancelled/
CATEGORIES:Town Meeting
END:VEVENT
BEGIN:VEVENT
DTSTART;TZID=America/New_York:20260504T120000
DTEND;TZID=America/New_York:20260504T190000
DTSTAMP:20260425T074643
CREATED:20260423T201726Z
LAST-MODIFIED:20260425T010754Z
UID:10000009-1777896000-1777921200@www.brookfieldma.us
SUMMARY:Annual Town Elections
DESCRIPTION:Annual Town Elections will be held on \nMonday\, May 4th 2026 12:00PM – 7:00PM\nBrookfield Town Hall\n6 Central Street\, Brookfield MA 01506 \nPlease find a copy of the ballot below \nAnnual Town Election Ballot 2026
URL:https://www.brookfieldma.us/event/annual-town-elections/
LOCATION:Brookfield Town Hall\, 6 Central Street\, Brookfield\, MA\, 01506\, United States
CATEGORIES:Elections
ATTACH;FMTTYPE=image/jpeg:https://www.brookfieldma.us/wp-content/uploads/2026/04/Document-scaled.jpg
END:VEVENT
BEGIN:VEVENT
DTSTART;TZID=America/New_York:20260429T190000
DTEND;TZID=America/New_York:20260429T190000
DTSTAMP:20260425T074643
CREATED:20260425T025331Z
LAST-MODIFIED:20260425T111905Z
UID:10000015-1777489200-1777489200@www.brookfieldma.us
SUMMARY:Select Board
DESCRIPTION:Brookfield\, MA Select Board\nhttp://www.mytowngovernment.org/meeting/5083042289287168\nBrookfield Select Board\nWednesday\, April 29\, 2026; 7 p.m.\nBrookfield Police Dept Meeting Room\nANNOUNCEMENTS:\nAGENDA\n1.	Executive Session\n#1:  To discuss the reputation\, character\, physical condition or mental health\, rather than professional competence\, of an individual\, or to discuss the discipline or dismissal of\, or complaints or charges brought against\, a public officer\, employee\, staff member or individual.\n2.	Executive Session\n#3: To discuss strategy with respect to collective bargaining or litigation if an open meeting\nmay have a detrimental effect on the bargaining or litigating position of the public body and the chair so declares.\n3.	Executive Session\n#2: To conduct strategy sessions in preparation for negotiations with nonunion personnel or to conduct collective bargaining sessions or contract negotiations with nonunion personnel. New England Police Benevolent Association\, Inc.(NEPBA)\n4.	Annual Town Meeting Warrant – Discussion/Recommendations\, etc.\n5.	Interim Town Administrator – discussion/vote\, etc.\n6.	Items not reasonably anticipated by the chair 48 hours in advance\nMeeting Accommodations: Reasonable accommodations for people with disabilities are available upon request. When making such a request\, please include a description of the accommodation that you will need\, including as much detail as possible\, along with your contact information. Email requests to:selectmen@brookfieldma.us\, or call 508-867-2930 x 10. Or fill out an ADA Accommodation Request online at https://forms.anevry.com/view.php?id=19488\nIn order to meet your request\, please provide at least 48 hours notice prior to the date that the accommodation is needed. Although every attempt will be made to provide the accommodation\, with less than 48 hours notice it may not be possible.
URL:https://www.brookfieldma.us/event/select-board/
LOCATION:Brookfield Police Station Meeting Room\, 7 Prouty Street
CATEGORIES:Town Meeting
END:VEVENT
BEGIN:VEVENT
DTSTART;TZID=America/New_York:20260429T190000
DTEND;TZID=America/New_York:20260429T190000
DTSTAMP:20260425T074643
CREATED:20260425T025331Z
LAST-MODIFIED:20260425T111905Z
UID:10000016-1777489200-1777489200@www.brookfieldma.us
SUMMARY:Tantasqua School Committee
DESCRIPTION:Brookfield\, MA Tantasqua School Committee\nhttp://www.mytowngovernment.org/meeting/5105859135275008
URL:https://www.brookfieldma.us/event/tantasqua-school-committee/
LOCATION:Tantasqua Regional Junior High School\, 320A Brookfield Road\, Fiskdale MA 01518 Library
CATEGORIES:Town Meeting
END:VEVENT
BEGIN:VEVENT
DTSTART;TZID=America/New_York:20260429T184500
DTEND;TZID=America/New_York:20260429T184500
DTSTAMP:20260425T074643
CREATED:20260425T025331Z
LAST-MODIFIED:20260425T111905Z
UID:10000014-1777488300-1777488300@www.brookfieldma.us
SUMMARY:Board of Health
DESCRIPTION:Brookfield\, MA Board of Health\nhttp://www.mytowngovernment.org/meeting/5178387961217024\nTOWN OF BROOKFIELD\nBOARD OF HEALTH – MEETING AGENDA\nDate: Wednesday\, April 22\, 2026\nTime: 6:00 PM\nLocation: Brookfield Town Hall\n1. Call to Order\n2. Administrative / Board Business\nReview of Leicester Regional Public Health Coalition (LRPHC) February and March Reports\nReview and Approval of Meeting Minutes:\nFebruary 25\, 2026\nMarch 25\, 2026\n3. Appointments / Scheduled Discussions\nBonney Toomey – Post Road Trading\nWildberry Acres – Follow-up discussion regarding permit process\nWillow Beans Cafe\nKermit Eaton\n4. New Business\nTransfer Station Operations\nStaffing update: coverage during Jim’s medical leave (beginning 4/28) – Patrick O’Leary\nTransfer station bag availability and management\nPayment methods: money orders vs. cash\n5. Ongoing / Old Business\nLeicester Regional Public Health Coalition (LRPHC)\n11 Molasses Hill – February report follow-up\nTiming and distribution of monthly reports to the Board prior to meetings\nSustainable Materials Recovery Program (SMRP) / Recycling Dividends Program (RDP) Grant Cycle\nStatus update\nBeach Testing Contract\nReview of quote and draft agreement\n6. Public Comment (General Matters)\nMembers of the public may address the Board on matters not reasonably anticipated by the Chair within 48 hours of the meeting posting.\nComments are limited to 2 minutes per speaker\nThe Board will not engage in discussion on items not listed on the agenda\, in accordance with the Open Meeting Law\n7. Adjournment\nMeeting Accommodations\nReasonable accommodations for individuals with disabilities are available upon request. To request an accommodation\, please include a description of the needed accommodation and your contact information.\nRequests may be submitted to:\nEmail: accommodations@brookfieldma.us\nPhone: 508-867-2930 x 10\nAccommodation requests should be made at least 48 hours prior to the meeting. While every effort will be made to fulfill requests received with less notice\, it may not be possible in all cases.\nMeeting Accommodations: Reasonable accommodations for people with disabilities are available upon request. When making such a request\, please include a description of the accommodation that you will need\, including as much detail as possible\, along with your contact information. Email requests to: accommodations@brookfieldma.us or call 508-867-2930 x 10. Individuals may also find a copy of the town’s accommodation policy and online form to request accommodations at www.brookfieldma.us. In order to meet your request\, please provide at least 48 hours’ notice prior to the date that the accommodation is needed. Although every attempt will be made to provide the accommodation with less than 48 hours may not be possible.
URL:https://www.brookfieldma.us/event/board-of-health/
LOCATION:Brookfield Town Hall\, 6 Central Street\, Brookfield MA 01506 Banquet Room
CATEGORIES:Town Meeting
END:VEVENT
BEGIN:VEVENT
DTSTART;TZID=America/New_York:20260429T180000
DTEND;TZID=America/New_York:20260429T180000
DTSTAMP:20260425T074643
CREATED:20260425T025330Z
LAST-MODIFIED:20260425T111905Z
UID:10000013-1777485600-1777485600@www.brookfieldma.us
SUMMARY:Zoning Board of Appeals
DESCRIPTION:Brookfield\, MA Zoning Board of Appeals\nhttp://www.mytowngovernment.org/meeting/5089858435940352\nOpen Meeting\nApproval of minutes\n6:00 pm: Public Hearing for a Variance at 2 Prospect St.\nCorrespondence
URL:https://www.brookfieldma.us/event/zoning-board-of-appeals/
LOCATION:Brookfield Town Hall\, 6 Central Street\, Brookfield MA 01506 Banquet Hall
CATEGORIES:Town Meeting
END:VEVENT
BEGIN:VEVENT
DTSTART;TZID=America/New_York:20260429T173000
DTEND;TZID=America/New_York:20260429T173000
DTSTAMP:20260425T074643
CREATED:20260425T025330Z
LAST-MODIFIED:20260425T111905Z
UID:10000012-1777483800-1777483800@www.brookfieldma.us
SUMMARY:Tantasqua Regional School District Budget Subcommittee
DESCRIPTION:Brookfield\, MA Tantasqua Regional School District Budget Subcommittee\nhttp://www.mytowngovernment.org/meeting/5082083068739584
URL:https://www.brookfieldma.us/event/tantasqua-regional-school-district-budget-subcommittee/
LOCATION:Tantasqua Regional Junior High School\, 320A Brookfield Road\, Fiskdale MA 01518 Superintendent’s Conference Room
CATEGORIES:Town Meeting
END:VEVENT
BEGIN:VEVENT
DTSTART;TZID=America/New_York:20260428T180000
DTEND;TZID=America/New_York:20260428T180000
DTSTAMP:20260425T074643
CREATED:20260425T025330Z
LAST-MODIFIED:20260425T111905Z
UID:10000011-1777399200-1777399200@www.brookfieldma.us
SUMMARY:Board of Assessors
DESCRIPTION:Brookfield\, MA Board of Assessors\nhttp://www.mytowngovernment.org/meeting/5125409457307648\nCall to Order\nReview/approve minutes from 1/7/26 meeting\nRoy Bishop- Review and discuss workplan approved by DOR for FY 2027 Reval work- discuss more responsibility for FY 2027- sign contracts.\nDiscuss Patty’s hours for FY 2027\nReview abatement applications\nDiscuss senior/vet work off positions\nArticle for ATM for Reval expenses\nPuresky energy-solar project\nNext meeting date\nAdjourn
URL:https://www.brookfieldma.us/event/board-of-assessors/
LOCATION:Brookfield Town Hall\, 6 Central Street\, Brookfield MA 01506 assessors office
CATEGORIES:Town Meeting
END:VEVENT
BEGIN:VEVENT
DTSTART;TZID=America/New_York:20260427T190000
DTEND;TZID=America/New_York:20260427T190000
DTSTAMP:20260425T074643
CREATED:20260425T024524Z
LAST-MODIFIED:20260425T111905Z
UID:10000010-1777316400-1777316400@www.brookfieldma.us
SUMMARY:Recreation Committee
DESCRIPTION:Brookfield\, MA Recreation Committee\nhttp://www.mytowngovernment.org/meeting/5092431188459520\nReview scholarship applicants\nSoccer signups\nBaseball softball
URL:https://www.brookfieldma.us/event/recreation-committee/
LOCATION:Brookfield Elementary School\, 37 Central Street Brookfield MA 01506 Cafeteria meeting room
CATEGORIES:Town Meeting
END:VEVENT
BEGIN:VEVENT
DTSTART;VALUE=DATE:20260425
DTEND;VALUE=DATE:20260426
DTSTAMP:20260425T074643
CREATED:20260417T014055Z
LAST-MODIFIED:20260425T010556Z
UID:10000002-1777075200-1777161599@www.brookfieldma.us
SUMMARY:10th Annual John T. O’Leary Memorial Operation Clean Sweep
DESCRIPTION:Saturday April 25\, 2026 \nJoin us in continuing this Brookfield tradition!\nResidents and neighbors are invited to take part to hep rid local streets and roads of the litter and trash thrown out of passing cars. \nSign up as an individual\, a family\, or a group\, and let us know the street(s) you’ll be cleaning. \nPick-up Orange Trash Bags: \n\nAt Tip Top Co=Op\nAt the Transfer Station on Tuesdays or Saturdays in April\nAt the Brookfield Town Common Gazebo on Saturday\, April 25\, from 8:00AM – 9:00AM\n\nFor complete details\, visit https://applecountryfair.com/events.html \nOperation Clean Sweep is coordinated by the Brookfield Community Club. Our partners include the Brookfield Board of Health\, the Town Highway Department and Quaboag & Quacumquasit Lake Association (QQLA). \nFacebook: /applecountryfair01506\nInstagram: /applecountryfair01506 \n2026 Clean Sweep Poster
URL:https://www.brookfieldma.us/event/10th-annual-john-t-oleary-memorial-operation-clean-sweep/
LOCATION:Brookfield Town Common\, Brookfield\, MA\, United States
CATEGORIES:Community Event
ATTACH;FMTTYPE=image/jpeg:https://www.brookfieldma.us/wp-content/uploads/2026/04/2026-Clean-Sweep-poster-scaled.jpg
ORGANIZER;CN="Brookfield Community Club":MAILTO:applecountryfair@gmail.com
END:VEVENT
BEGIN:VEVENT
DTSTART;TZID=America/New_York:20260418T100000
DTEND;TZID=America/New_York:20260418T110000
DTSTAMP:20260425T074643
CREATED:20260417T022345Z
LAST-MODIFIED:20260425T010603Z
UID:10000004-1776506400-1776510000@www.brookfieldma.us
SUMMARY:Reading of the Poem\, Paul Revere's Ride
DESCRIPTION:Join us on the Brookfield Town Common for the reading of the poem\, Paul Revere’s Ride\, by Henry Wadsworth Longfellow\nApril 18th\, 2026 at 10:00AM \nAfterwards\, the kids will be able to make tricorn hats and write their names on parchment paper using a quill pen! \n 
URL:https://www.brookfieldma.us/event/reading-of-the-poem-paul-reveres-ride/
LOCATION:Brookfield Town Common\, Brookfield\, MA\, United States
CATEGORIES:Community Event
ATTACH;FMTTYPE=image/jpeg:https://www.brookfieldma.us/wp-content/uploads/2026/04/paul-revere.jpg
ORGANIZER;CN="Brookfield Cultural Council":MAILTO:cultural@brookfieldma.us
END:VEVENT
END:VCALENDAR