BEGIN:VCALENDAR
VERSION:2.0
PRODID:-//Town of Brookfield - ECPv6.15.20//NONSGML v1.0//EN
CALSCALE:GREGORIAN
METHOD:PUBLISH
X-ORIGINAL-URL:https://www.brookfieldma.us
X-WR-CALDESC:Events for Town of Brookfield
REFRESH-INTERVAL;VALUE=DURATION:PT1H
X-Robots-Tag:noindex
X-PUBLISHED-TTL:PT1H
BEGIN:VTIMEZONE
TZID:America/New_York
BEGIN:DAYLIGHT
TZOFFSETFROM:-0500
TZOFFSETTO:-0400
TZNAME:EDT
DTSTART:20250309T070000
END:DAYLIGHT
BEGIN:STANDARD
TZOFFSETFROM:-0400
TZOFFSETTO:-0500
TZNAME:EST
DTSTART:20251102T060000
END:STANDARD
BEGIN:DAYLIGHT
TZOFFSETFROM:-0500
TZOFFSETTO:-0400
TZNAME:EDT
DTSTART:20260308T070000
END:DAYLIGHT
BEGIN:STANDARD
TZOFFSETFROM:-0400
TZOFFSETTO:-0500
TZNAME:EST
DTSTART:20261101T060000
END:STANDARD
BEGIN:DAYLIGHT
TZOFFSETFROM:-0500
TZOFFSETTO:-0400
TZNAME:EDT
DTSTART:20270314T070000
END:DAYLIGHT
BEGIN:STANDARD
TZOFFSETFROM:-0400
TZOFFSETTO:-0500
TZNAME:EST
DTSTART:20271107T060000
END:STANDARD
END:VTIMEZONE
BEGIN:VEVENT
DTSTART;VALUE=DATE:20260425
DTEND;VALUE=DATE:20260426
DTSTAMP:20260421T093649
CREATED:20260417T014055Z
LAST-MODIFIED:20260419T024310Z
UID:10000002-1777075200-1777161599@www.brookfieldma.us
SUMMARY:10th Annual John T. O’Leary Memorial Operation Clean Sweep
DESCRIPTION:Saturday April 25\, 2026 \nJoin us in continuing this Brookfield tradition!\nResidents and neighbors are invited to take part to hep rid local streets and roads of the litter and trash thrown out of passing cars. \nSign up as an individual\, a family\, or a group\, and let us know the street(s) you’ll be cleaning. \nPick-up Orange Trash Bags: \n\nAt Tip Top Co=Op\nAt the Transfer Station on Tuesdays or Saturdays in April\nAt the Brookfield Town Common Gazebo on Saturday\, April 25\, from 8:00AM – 9:00AM\n\nFor complete details\, visit https://applecountryfair.com/events.html \nOperation Clean Sweep is coordinated by the Brookfield Community Club. Our partners include the Brookfield Board of Health\, the Town Highway Department and Quaboag & Quacumquasit Lake Association (QQLA). \nFacebook: /applecountryfair01506\nInstagram: /applecountryfair01506 \n2026 Clean Sweep Poster
URL:https://www.brookfieldma.us/event/10th-annual-john-t-oleary-memorial-operation-clean-sweep/
LOCATION:Brookfield Town Common\, Brookfield\, MA\, United States
CATEGORIES:Town Common
ATTACH;FMTTYPE=image/jpeg:https://www.brookfieldma.us/wp-content/uploads/2026/04/2026-Clean-Sweep-poster-scaled.jpg
ORGANIZER;CN="Brookfield Community Club":MAILTO:applecountryfair@gmail.com
END:VEVENT
BEGIN:VEVENT
DTSTART;TZID=America/New_York:20260506T184500
DTEND;TZID=America/New_York:20260506T184500
DTSTAMP:20260421T093649
CREATED:20260419T021845Z
LAST-MODIFIED:20260419T022239Z
UID:10000008-1778093100-1778093100@www.brookfieldma.us
SUMMARY:Notice of Public Hearing: Proposed Amendments to Accessory Dwelling Units Bylaw
DESCRIPTION:Brookfield Planning Board \nNotice of Public Hearing \n  \nIn accordance with M. G. L.\, Chapter 40A\, Section 5 and the provisions of the Brookfield Zoning Bylaws Section 13.D\, the Brookfield Planning Board will hold a Public Hearing on proposed amendments to the Town of Brookfield Zoning Bylaw concerning Accessory Dwelling Units. \nThe hearing will take place on Wednesday\, May 6\, 2026\, in the Banquet Hall of Brookfield Town Hall\, 6 Central St.\, Brookfield\, MA\, starting at 6:45 pm or as soon thereafter as can be heard. Meeting details and agenda will be posted at www.mytowngovernment.org/01506. A copy of the proposed amendments may be inspected at the office of the Town Clerk at Brookfield Town Hall during normal business hours. \n  \nKevin Erkkila\, Chair \nBrookfield Planning Board
URL:https://www.brookfieldma.us/event/notice-of-public-hearing-proposed-amendments-to-accessory-dwelling-units-bylaw/
LOCATION:Brookfield Town Hall\, 6 Central Street\, Brookfield\, MA\, 01506\, United States
ATTACH;FMTTYPE=image/png:https://www.brookfieldma.us/wp-content/uploads/2026/04/Document.png
ORGANIZER;CN="Planning Board":MAILTO:abclerk@brookfieldma.us
END:VEVENT
BEGIN:VEVENT
DTSTART;TZID=America/New_York:20260516T173000
DTEND;TZID=America/New_York:20260516T220000
DTSTAMP:20260421T093649
CREATED:20260419T010202Z
LAST-MODIFIED:20260419T010202Z
UID:10000007-1778952600-1778968800@www.brookfieldma.us
SUMMARY:Brookfield Gala
DESCRIPTION:The 2nd Annual Brookfield Gala is almost here! \n\n\nJoin us for an unforgettable evening supporting our wonderful Brookfield community!\n\n\n Saturday\, May 16\, 2026\n Cocktail Hour begins at 5:30 PM\n Oakholm Farm Estate\n\n\n\nTickets are now on sale!\n\n\nPricing:\n– $80 per individual\n– $750 for a table of 8 (includes dedicated drink service\, you still purchase your own drinks)\n\n\nHow to get tickets:\nReach out to any Friends of Brookfield member\, or email us at friendsofbrookfield01506@gmail.com\n\n\nWhat to expect:\n– Cocktail hour with live music by **Brian Kearsley**\n– Silent Auction and raffle\n– Presentation of the Brookfield Distinguished Citizen of the Year Award\n– Delicious dinner featuring:\n\n\nHors d’oeuvres\nVariety of cheeses\, crackers\, sliced hard salami & fresh fruit\n\n\nSalad\nTossed salad with roma tomatoes\, English cucumbers\, julienne carrots\, Italian dressing + fresh baked bread with butter\n\n\nBuffet\n– Pan-seared boneless chicken breast with Picatta sauce\n– Baked Haddock with basil pesto crust & lemon butter\n– Prime Rib carved to order with au jus\n– Baked rice with fresh thyme\n– Potatoes Au Gratin\n– Steamed vegetable medley (broccoli\, cauliflower\, carrots)\n\n\nVegan/Vegetarian Option\nGrilled zucchini\, summer squash\, eggplant\, asparagus\, red onion & cherry tomatoes with fresh oregano & basil over brown & wild rice fusion\n\n\nDessert to finish the night\n\n\n– Dancing all evening!\n\n\nSchedule:\n5:30 – 6:30 PM | Cocktail Hour\n6:40 PM | Welcome & Opening\n6:50 PM | Brookfield Distinguished Citizen Award Presentation\n7:00 – 10:00 PM | Dinner\, Dancing & Silent Auction\n\n\nA perfect night of great food\, music\, dancing\, community spirit\, and supporting a great cause. Don’t miss it\, tickets will go fast!\n\n\nTag your friends and let us know if you’re coming!
URL:https://www.brookfieldma.us/event/brookfield-gala/
LOCATION:Oakholm Farm Estate\, 80 Lake Road\, Brookfield\, MA\, 01506\, United States
ATTACH;FMTTYPE=image/jpeg:https://www.brookfieldma.us/wp-content/uploads/2026/04/668548062_122212481912541363_1788651235946214220_n.jpg
ORGANIZER;CN="Friends of Brookfield":MAILTO:friendsofbrookfield01506@gmail.com
END:VEVENT
BEGIN:VEVENT
DTSTART;TZID=America/New_York:20260523T090000
DTEND;TZID=America/New_York:20260523T160000
DTSTAMP:20260421T093649
CREATED:20260417T020249Z
LAST-MODIFIED:20260419T023930Z
UID:10000003-1779526800-1779552000@www.brookfieldma.us
SUMMARY:Annual Plant Sale
DESCRIPTION:The Garden Club will be hosting their Annual Plant Sale on the Brookfield Town Common on Saturday\, May 23rd 2026 9:00AM – 4:00PM. \n 
URL:https://www.brookfieldma.us/event/annual-plant-sale/
LOCATION:Brookfield Town Common\, Brookfield\, MA\, United States
CATEGORIES:Town Common
ATTACH;FMTTYPE=image/jpeg:https://www.brookfieldma.us/wp-content/uploads/2026/04/668522395_10238720562385047_4392821917119690986_n.jpg
END:VEVENT
BEGIN:VEVENT
DTSTART;TZID=America/New_York:20260606T100000
DTEND;TZID=America/New_York:20260606T140000
DTSTAMP:20260421T093649
CREATED:20260417T023659Z
LAST-MODIFIED:20260419T010303Z
UID:10000005-1780740000-1780754400@www.brookfieldma.us
SUMMARY:Hops & Horsepower
DESCRIPTION:Experience the Roar of Engines and the Brilliance of Automotive Design at \nOakholm Brewing Company\nSaturday June 6\, 2026\n10:00AM – 2:00PM \nPlease arrive for registration between 9:00AM and 11:30AM to be eligible for prizes. \n\nFree for Attendees\nCoffee Truck\nRaffles\nPrizes\nLive Music\n\nPre-Register HERE \nPresented by:\nBrookfield Cultural Council\nFriends of Brookfield\nOakholm Brewing Company
URL:https://www.brookfieldma.us/event/hops-horsepower/
LOCATION:Oakholm Brewing Company\, 80 Lake Road\, Brookfield\, MA\, 01506\, United States
ATTACH;FMTTYPE=image/jpeg:https://www.brookfieldma.us/wp-content/uploads/2026/04/650277726_122102947335230459_5598773494733866751_n-1.jpg
END:VEVENT
END:VCALENDAR