BEGIN:VCALENDAR
VERSION:2.0
PRODID:-//Town of Brookfield - ECPv6.15.20//NONSGML v1.0//EN
CALSCALE:GREGORIAN
METHOD:PUBLISH
X-WR-CALNAME:Town of Brookfield
X-ORIGINAL-URL:https://www.brookfieldma.us
X-WR-CALDESC:Events for Town of Brookfield
REFRESH-INTERVAL;VALUE=DURATION:PT1H
X-Robots-Tag:noindex
X-PUBLISHED-TTL:PT1H
BEGIN:VTIMEZONE
TZID:America/New_York
BEGIN:DAYLIGHT
TZOFFSETFROM:-0500
TZOFFSETTO:-0400
TZNAME:EDT
DTSTART:20250309T070000
END:DAYLIGHT
BEGIN:STANDARD
TZOFFSETFROM:-0400
TZOFFSETTO:-0500
TZNAME:EST
DTSTART:20251102T060000
END:STANDARD
BEGIN:DAYLIGHT
TZOFFSETFROM:-0500
TZOFFSETTO:-0400
TZNAME:EDT
DTSTART:20260308T070000
END:DAYLIGHT
BEGIN:STANDARD
TZOFFSETFROM:-0400
TZOFFSETTO:-0500
TZNAME:EST
DTSTART:20261101T060000
END:STANDARD
BEGIN:DAYLIGHT
TZOFFSETFROM:-0500
TZOFFSETTO:-0400
TZNAME:EDT
DTSTART:20270314T070000
END:DAYLIGHT
BEGIN:STANDARD
TZOFFSETFROM:-0400
TZOFFSETTO:-0500
TZNAME:EST
DTSTART:20271107T060000
END:STANDARD
END:VTIMEZONE
BEGIN:VEVENT
DTSTART;TZID=America/New_York:20260504T120000
DTEND;TZID=America/New_York:20260504T190000
DTSTAMP:20260425T113114
CREATED:20260423T201726Z
LAST-MODIFIED:20260425T010754Z
UID:10000009-1777896000-1777921200@www.brookfieldma.us
SUMMARY:Annual Town Elections
DESCRIPTION:Annual Town Elections will be held on \nMonday\, May 4th 2026 12:00PM – 7:00PM\nBrookfield Town Hall\n6 Central Street\, Brookfield MA 01506 \nPlease find a copy of the ballot below \nAnnual Town Election Ballot 2026
URL:https://www.brookfieldma.us/event/annual-town-elections/
LOCATION:Brookfield Town Hall\, 6 Central Street\, Brookfield\, MA\, 01506\, United States
CATEGORIES:Elections
ATTACH;FMTTYPE=image/jpeg:https://www.brookfieldma.us/wp-content/uploads/2026/04/Document-scaled.jpg
END:VEVENT
BEGIN:VEVENT
DTSTART;TZID=America/New_York:20260504T161500
DTEND;TZID=America/New_York:20260504T161500
DTSTAMP:20260425T113114
CREATED:20260425T025331Z
LAST-MODIFIED:20260425T143545Z
UID:10000017-1777911300-1777911300@www.brookfieldma.us
SUMMARY:Brookfield Elementary School Committee Negotiations Subcommittee CANCELLED
DESCRIPTION:Brookfield\, MA Brookfield Elementary School Committee Negotiations Subcommittee CANCELLED
URL:https://www.brookfieldma.us/event/brookfield-elementary-school-committee-negotiations-subcommittee-cancelled/
CATEGORIES:Town Meeting
END:VEVENT
END:VCALENDAR