BEGIN:VCALENDAR
VERSION:2.0
PRODID:-//Town of Brookfield - ECPv6.15.20//NONSGML v1.0//EN
CALSCALE:GREGORIAN
METHOD:PUBLISH
X-ORIGINAL-URL:https://www.brookfieldma.us
X-WR-CALDESC:Events for Town of Brookfield
REFRESH-INTERVAL;VALUE=DURATION:PT1H
X-Robots-Tag:noindex
X-PUBLISHED-TTL:PT1H
BEGIN:VTIMEZONE
TZID:America/New_York
BEGIN:DAYLIGHT
TZOFFSETFROM:-0500
TZOFFSETTO:-0400
TZNAME:EDT
DTSTART:20250309T070000
END:DAYLIGHT
BEGIN:STANDARD
TZOFFSETFROM:-0400
TZOFFSETTO:-0500
TZNAME:EST
DTSTART:20251102T060000
END:STANDARD
BEGIN:DAYLIGHT
TZOFFSETFROM:-0500
TZOFFSETTO:-0400
TZNAME:EDT
DTSTART:20260308T070000
END:DAYLIGHT
BEGIN:STANDARD
TZOFFSETFROM:-0400
TZOFFSETTO:-0500
TZNAME:EST
DTSTART:20261101T060000
END:STANDARD
BEGIN:DAYLIGHT
TZOFFSETFROM:-0500
TZOFFSETTO:-0400
TZNAME:EDT
DTSTART:20270314T070000
END:DAYLIGHT
BEGIN:STANDARD
TZOFFSETFROM:-0400
TZOFFSETTO:-0500
TZNAME:EST
DTSTART:20271107T060000
END:STANDARD
END:VTIMEZONE
BEGIN:VEVENT
DTSTART;TZID=America/New_York:20260428T180000
DTEND;TZID=America/New_York:20260428T180000
DTSTAMP:20260425T101032
CREATED:20260425T025330Z
LAST-MODIFIED:20260425T133520Z
UID:10000011-1777399200-1777399200@www.brookfieldma.us
SUMMARY:Board of Assessors
DESCRIPTION:Brookfield\, MA Board of Assessors\nhttp://www.mytowngovernment.org/meeting/5125409457307648\nCall to Order\nReview/approve minutes from 1/7/26 meeting\nRoy Bishop- Review and discuss workplan approved by DOR for FY 2027 Reval work- discuss more responsibility for FY 2027- sign contracts.\nDiscuss Patty’s hours for FY 2027\nReview abatement applications\nDiscuss senior/vet work off positions\nArticle for ATM for Reval expenses\nPuresky energy-solar project\nNext meeting date\nAdjourn
URL:https://www.brookfieldma.us/event/board-of-assessors/
LOCATION:Brookfield Town Hall\, 6 Central Street\, Brookfield MA 01506 assessors office
CATEGORIES:Town Meeting
END:VEVENT
END:VCALENDAR